BEGIN:VCALENDAR
VERSION:2.0
PRODID:-//Coffs Harbour Surf Lifesaving Club - ECPv4.6//NONSGML v1.0//EN
CALSCALE:GREGORIAN
METHOD:PUBLISH
X-WR-CALNAME:Coffs Harbour Surf Lifesaving Club
X-ORIGINAL-URL:http://coffsharbourslsc.asn.au
X-WR-CALDESC:Events for Coffs Harbour Surf Lifesaving Club
BEGIN:VEVENT
DTSTART;TZID=Australia/Sydney:20190301T080000
DTEND;TZID=Australia/Sydney:20190303T170000
DTSTAMP:20190228T220641
CREATED:20180917T114738Z
LAST-MODIFIED:20180917T114738Z
UID:2441-1551427200-1551632400@coffsharbourslsc.asn.au
SUMMARY:NSW Age Championships (U9 - U14) & Open First Aid Events
DESCRIPTION:
URL:http://coffsharbourslsc.asn.au/calendar-event/nsw-age-championships-u9-u14-open-first-aid-events/
LOCATION:Ungala Rd Blacksmiths\,  Blacksmiths \, NSW\, 2450\, Australia
END:VEVENT
BEGIN:VEVENT
DTSTART;TZID=Australia/Sydney:20190306T080000
DTEND;TZID=Australia/Sydney:20190307T170000
DTSTAMP:20190228T220641
CREATED:20180917T114839Z
LAST-MODIFIED:20180917T114839Z
UID:2443-1551859200-1551978000@coffsharbourslsc.asn.au
SUMMARY:NSW Masters Championships (Masters Boat on Friday 8th March)
DESCRIPTION:
URL:http://coffsharbourslsc.asn.au/calendar-event/nsw-masters-championships-masters-boat-on-friday-8th-march/
LOCATION:Ungala Rd Blacksmiths\,  Blacksmiths \, NSW\, 2450\, Australia
END:VEVENT
BEGIN:VEVENT
DTSTART;TZID=Australia/Sydney:20190308T080000
DTEND;TZID=Australia/Sydney:20190310T170000
DTSTAMP:20190228T220641
CREATED:20180917T114922Z
LAST-MODIFIED:20180917T114922Z
UID:2445-1552032000-1552237200@coffsharbourslsc.asn.au
SUMMARY:NSW Open Championships (U15 - Open)
DESCRIPTION:
URL:http://coffsharbourslsc.asn.au/calendar-event/nsw-open-championships-u15-open/
LOCATION:Ungala Rd Blacksmiths\,  Blacksmiths \, NSW\, 2450\, Australia
END:VEVENT
BEGIN:VEVENT
DTSTART;TZID=Australia/Sydney:20190330T080000
DTEND;TZID=Australia/Sydney:20190331T170000
DTSTAMP:20190228T220641
CREATED:20180917T115159Z
LAST-MODIFIED:20180917T115159Z
UID:2447-1553932800-1554051600@coffsharbourslsc.asn.au
SUMMARY:The Youth Championships
DESCRIPTION:
URL:http://coffsharbourslsc.asn.au/calendar-event/the-youth-championships/
LOCATION:New South Wales
END:VEVENT
END:VCALENDAR